BEGIN:VCALENDAR
VERSION:2.0
PRODID:-//wp-events-plugin.com//7.2.3.1//EN
TZID:Europe/London
X-WR-TIMEZONE:Europe/London
BEGIN:VEVENT
UID:14@ukais.org
DTSTART;TZID=Europe/London:20240625T120000
DTEND;TZID=Europe/London:20240625T130000
DTSTAMP:20240614T094640Z
URL:https://www.ukais.org/events/2415/
SUMMARY:UKAIS Learning and Teaching Showcase Webinar 2024
DESCRIPTION:We are pleased to invite you to this Learning and Teaching Show
 case webinar which will include presentations from the projects awarded a 
 2023 Teaching Innovation grant\, together with the 2024 winner of the Teac
 hing Innovation in IS Award\, Dr Joyce Lee.\n\nThis is an excellent opport
 unity to learn about the innovative learning and teaching practice within 
 the UKAIS community\, and to get ideas for your own submission for a UKAIS
  Teaching Innovation Grant or Award.\n\nWebinar Agenda\n\n12:00 - 12:05 We
 lcome and Introduction to UKAIS Learning and Teaching\n\n12:05 - 12:20 Dr 
 Mohammed Ali: "Developing a Conceptual Model to Enhance University Underst
 anding of ChatGPT: Assessing its Potential as a Progressive or Regressive 
 Learning Tool"\n\n12:20 - 12:35 Professor David Sammon\, "Simple Hermeneut
 ics-inspired\nLearning Analytics Model for Modules: Workshop and Dissemina
 tion Programme"\n\n12.35 - 12:50 Dr Joyce Lee\, "Theoretical and Practical
  Learning through Tabletop Games: The Course of Managing Information Syste
 ms in Digital Ages"\n\n12:50 - 1.00 Discussion\n\n________________________
 ________________________________________________________\n\nMicrosoft Team
 s Need help?\n\nJoin the meeting now\n\nMeeting ID: 353 494 825 148\n\nPas
 scode: y6hGHt\n\nDial in by phone\n\n+44 20 7660 8302\,\,885378112# United
  Kingdom\, London\n\nFind a local number\n\nPhone conference ID: 885 378 1
 12#\n\n&nbsp\;
END:VEVENT
BEGIN:VTIMEZONE
TZID:Europe/London
X-LIC-LOCATION:Europe/London
BEGIN:DAYLIGHT
DTSTART:20240331T020000
TZOFFSETFROM:+0000
TZOFFSETTO:+0100
TZNAME:BST
END:DAYLIGHT
END:VTIMEZONE
END:VCALENDAR