BEGIN:VCALENDAR
VERSION:2.0
PRODID:-//wp-events-plugin.com//7.2.3.1//EN
TZID:Europe/London
X-WR-TIMEZONE:Europe/London
BEGIN:VEVENT
UID:39@ukais.org
DTSTART;TZID=Europe/London:20260624T103000
DTEND;TZID=Europe/London:20260624T160000
DTSTAMP:20260226T080657Z
URL:https://www.ukais.org/events/3232/
SUMMARY:Publishing from your PhD
DESCRIPTION:When: 24th June 2026\, 10:30 – 16:00\n\nWhere: Northeastern U
 niversity London\, Room DH 224/226\, Devon House\, St Katharine's Way\, Lo
 ndon E1W 1JP.\n\nThe UK Academy of Information Systems invites Doctoral St
 udents (PhD and DBA)\, with an interest in Information Systems and Digital
  Transformation\, for a dynamic\, full-day workshop. The workshop is desig
 ned to support Doctoral Students at all stages of their research journey t
 oward publishing from their doctoral research.\n\nIt will be an interactiv
 e session\, bringing Doctoral Students and Faculty together\, to explore k
 ey aspects of publishing\, ranging from refining the motivation\, problema
 tisation\, and research questions\, to identifying potential contributions
  and relevant outlets.\n\nInterested Doctoral Students will need to submit
  their work ahead of the workshop. This work can be a draft or an outline 
 of a paper they are currently working on\, or a previously submitted but r
 ejected paper. The purpose is for the students to share their work with Fa
 culty and other Doctoral Students and through this\, to receive feedback\,
  which they can then use to further develop their work for a possible jour
 nal paper submission (at a later date).\n\nThe workshop is open to UKAIS a
 nd non-UKAIS members alike.\n\nAcademic Mentors include:\n\n 	Dr. Oliver K
 ayas\, Senior Lecturer in Digital Business\, Liverpool Business School\n 	
 Dr. Efpraxia Zamani\, Professor in Information Systems\, Durham University
 .\n 	Dr. Yu-Chun Pan\, Associate Professor in Digital Transformation\, Nor
 theastern University London\n 	Dr. Sian Joel-Edgar\, Associate Professor i
 n Human-Centred Computing\, Northeastern University\, London\n 	Dr. Victor
 ia Uren\, Senior Lecturer Business Information Systems\, Aston University\
 n\nRegistration: To attend the event\, Doctoral Students must register via
  the form below and then submit their draft proposal by 29 May 2026.  Ple
 ase submit your draft proposal via email: contactus@ukais.org. Submissions
  should not exceed 3 A4 pages (font size no less than 11pt)\, and they nee
 d to clearly indicate: the significance and the motivation behind the rese
 arch\; methodological concerns\; potential contributions. They all need to
  have an abstract of no more than 250 words. If you do not submit your dra
 ft proposal by 29 May\, your place at the event will be cancelled and give
 n to the next person on our waiting list.\n\nNote: The workshop has a capa
 city of 30 students. Participants will be accepted on a first come-first s
 erve basis.\n\nSchedule of Activities\n\n10:30 – 10:40 Welcome and Intro
 ductions – Oliver Kayas (President of the UKAIS)\n\n10:40 – 11:40 Keyn
 ote Speech: Publishing from your PhD by Professor Efpraxia Zamani\, Durham
  University.\n\n11:40 – 12:20 Lunch break\n\n12:20 – 13:50 Paper Sessi
 on: Problematisation (or the ‘So What?’ question)\n\n13:50 – 14:10 C
 offee Break\n\n14:10 – 15:40 Paper Session: Writing and polishing your a
 bstract\n\n15:40 - 16:00 Close\n\nGetting to Northeastern University Londo
 n\n\nRoom DH 224/226\, Devon House\, St Katharine's Way\, London E1W 1JP\n
 \nhttps://maps.app.goo.gl/w2hHzDyj6HM3WvNt8
LOCATION:Northeastern University London\, Room DH 224/226\, Devon House\, S
 t Katharine's Way\, London\, E1W 1JP\, United Kingdom
X-APPLE-STRUCTURED-LOCATION;VALUE=URI;X-ADDRESS=Room DH 224/226\, Devon Hou
 se\, St Katharine's Way\, London\, E1W 1JP\, United Kingdom;X-APPLE-RADIUS
 =100;X-TITLE=Northeastern University London:geo:0,0
END:VEVENT
BEGIN:VTIMEZONE
TZID:Europe/London
X-LIC-LOCATION:Europe/London
BEGIN:DAYLIGHT
DTSTART:20260329T020000
TZOFFSETFROM:+0000
TZOFFSETTO:+0100
TZNAME:BST
END:DAYLIGHT
END:VTIMEZONE
END:VCALENDAR