BEGIN:VCALENDAR
VERSION:2.0
PRODID:-//wp-events-plugin.com//7.2.3.1//EN
TZID:Europe/London
X-WR-TIMEZONE:Europe/London
BEGIN:VEVENT
UID:29@ukais.org
DTSTART;TZID=Europe/London:20250603T130000
DTEND;TZID=Europe/London:20250603T140000
DTSTAMP:20250520T095535Z
URL:https://www.ukais.org/events/an-overview-of-the-development-and-use-of
 -theoryhub-an-online-open-access-theory-resource/
SUMMARY:An Overview of the Development and Use of TheoryHub: An Online Open
 -Access Theory Resource
DESCRIPTION:We are pleased to invite you to a Learning and Teaching webinar
  which will showcase the work of the 2025 winner of the Teaching Innovatio
 n in IS Award\, Prof Savvas Papagiannidis.\n\nThe webinar will provide an 
 overview of the development and use of TheoryHub: An online open-access th
 eory resource and will take place 1pm-2pm UK time\, Tuesday 3rd June 2025
 .\n\nThis is an excellent opportunity to learn about innovative learning a
 nd teaching practice within the UKAIS community\, and to get ideas for you
 r own submission for a UKAIS Teaching Innovation Grant or Award.\n\nHow to
  join\n\nMicrosoft Teams Join the meeting\n\nMeeting ID: 322 640 184 365 6
 \n\nPasscode: BV6hU7y7
END:VEVENT
BEGIN:VTIMEZONE
TZID:Europe/London
X-LIC-LOCATION:Europe/London
BEGIN:DAYLIGHT
DTSTART:20250330T020000
TZOFFSETFROM:+0000
TZOFFSETTO:+0100
TZNAME:BST
END:DAYLIGHT
END:VTIMEZONE
END:VCALENDAR