BEGIN:VCALENDAR
VERSION:2.0
PRODID:-//wp-events-plugin.com//7.2.3.1//EN
TZID:Europe/London
X-WR-TIMEZONE:Europe/London
BEGIN:VEVENT
UID:21@ukais.org
DTSTART;TZID=Europe/London:20241029T140000
DTEND;TZID=Europe/London:20241029T160000
DTSTAMP:20241022T143148Z
URL:https://www.ukais.org/events/ctf-research-seminar-human-ai-joint-task-
 performance-learning-from-uncertainty-in-autonomous-driving-systems-by-pro
 f-panos-constantinides/
SUMMARY:CTF Research Seminar - Human-AI Joint Task Performance: Learning fr
 om Uncertainty in Autonomous Driving Systems by Prof. Panos Constantinides
DESCRIPTION:UKAIS Members may be interested in the following seminar on Hum
 an-AI joint task performance" with Professor Panos Constantinides on Oct 2
 9th from 14:00-16:00\n\n\n\n&nbsp\;\n\n___________________________________
 _____________________________________________\n\nMicrosoft Teams Need help
 ?\n\nJoin the meeting now\n\nMeeting ID: 362 360 584 036\n\nPasscode: BKMi
 NB\n\nFor organizers: Meeting options
END:VEVENT
BEGIN:VTIMEZONE
TZID:Europe/London
X-LIC-LOCATION:Europe/London
BEGIN:STANDARD
DTSTART:20241027T010000
TZOFFSETFROM:+0100
TZOFFSETTO:+0000
TZNAME:GMT
END:STANDARD
END:VTIMEZONE
END:VCALENDAR