BEGIN:VCALENDAR
VERSION:2.0
PRODID:-//wp-events-plugin.com//7.2.3.1//EN
TZID:Europe/London
X-WR-TIMEZONE:Europe/London
BEGIN:VEVENT
UID:25@ukais.org
DTSTART;TZID=Europe/London:20250523T133000
DTEND;TZID=Europe/London:20250523T150000
DTSTAMP:20250415T093535Z
URL:https://www.ukais.org/events/feminist-ai-special-issue-gender-work-org
 anization-virtual-pre-submission-workshop/
SUMMARY:Feminist AI Special Issue - Gender\, Work & Organization (virtual p
 re-submission workshop)
DESCRIPTION:May 23rd\, 2025 14:30 - 16:00 CET online (Microsoft Teams )\n\n
 The UKAIS and the AIS Women's Network College are delighted to invite you 
 to an online workshop\, dedicated to the Gender\, Work &amp\; Organization
  Special Issue (SI) on Feminist AI. The guest editors will present the SI 
 and authors can share their ideas and receive constructive feedback. Inter
 ested scholars might submit an abstract of 500 words to Alessandra Lazazza
 ra (alessandra.lazazzara@unimi.it) by April 30th\, 2025.\n\n&nbsp\;\n\nSum
 mary of SI: The digitalization of work\, accelerated by the COVID-19 pande
 mic\, has created an urgent need to understand and foster inclusion in inc
 reasingly virtual and hybrid work environments (Magrizos et al.\, 2023)\, 
 fundamentally transforming organizational approaches and necessitating new
  conceptualizations of workplace inclusion (Georgiadou et al.\, 2024). As 
 artificial intelligence (AI) technologies play an expanding role in shapin
 g these workplaces – impacting everything from recruitment and performan
 ce evaluation to communication and collaboration - their rapid development
  and implementation is profoundly reshaping work and organizations. At the
  same time AI technologies are designed and developed within the organizat
 ional context where work is largely informed by market logics. With AI sys
 tems becoming prevalent across industries and job functions\, it is essent
 ial to examine their impacts at workplaces and also work around the develo
 pment of AI through a feminist lens (Wajcman and Young\, 2023). Full detai
 ls on the SI can be found here: https://onlinelibrary.wiley.com/pb-assets/
 assets/14680432/GWO-SI-FeministAI-CfP-2025-1740594956.pdf\n\n&nbsp\;\n\nGu
 est Editors:\n\n 	Alessandra Lazazzara\, University of Milano\, Italy\n 	E
 fpraxia D. Zamani\, Durham University Business School\, UK\n 	Andri Georgi
 adou\, University of Nottingham\, UK\n 	Ayushi Tandon\, Trinity Business S
 chool\, Ireland\n\n&nbsp\;\n\nJoining details: \n\n\nJoin the meeting now
 \n\n\n\n\nMeeting ID: 375 478 765 715\n\n\n\n\nPasscode: LT3Fk2ib\n\n\n\n\
 n\n\n
END:VEVENT
BEGIN:VTIMEZONE
TZID:Europe/London
X-LIC-LOCATION:Europe/London
BEGIN:DAYLIGHT
DTSTART:20250330T020000
TZOFFSETFROM:+0000
TZOFFSETTO:+0100
TZNAME:BST
END:DAYLIGHT
END:VTIMEZONE
END:VCALENDAR