BEGIN:VCALENDAR
VERSION:2.0
PRODID:-//wp-events-plugin.com//7.2.3.1//EN
TZID:Europe/London
X-WR-TIMEZONE:Europe/London
BEGIN:VEVENT
UID:23@ukais.org
DTSTART;TZID=Europe/London:20250324T100000
DTEND;TZID=Europe/London:20250324T150000
DTSTAMP:20250317T132213Z
URL:https://www.ukais.org/events/information-systems-phd-research-workshop
 /
SUMMARY:Information Systems PhD Research Workshop
DESCRIPTION:\n\n\nUKAIS and Lancaster University Management School presents
  the 2025 Information Systems PhD Research Workshop. This workshop is for 
 PhD students in Information Systems. The workshop is an interactive\, enga
 ging\, and insightful workshop where you will:\n\n 	Present your research 
 and receive valuable feedback\n 	Engage with top scholars in IS research\n
  	Build connections with fellow PhD researchers\n 	Explore strategies for 
 industry collaborations\n\nKeynote speakers include:\n\nProfessor Jeffrey 
 V. Nickerson (Stevens Institute of Technology\, USA)\n\n\n\nProfessor Joyc
 e Lee (National Chengchi University\, Taiwan)\n\n\n\nThis event is only av
 ailable to PhD students who are either a UKAIS member or who are studying 
 at Lancaster University.\n\nFor further information please contact Aishatu
  Mohammed (A.L.Mohammed@edu.salford.ac.uk) and Seki Liu (s.liu66@lancaster
 .ac.uk).
LOCATION:Lancaster University Management School\, Bailrigg\, Lancaster LA1 
 4YX\, UK\, Lancaster\, United Kingdom
X-APPLE-STRUCTURED-LOCATION;VALUE=URI;X-ADDRESS=Bailrigg\, Lancaster LA1 4Y
 X\, UK\, Lancaster\, United Kingdom;X-APPLE-RADIUS=100;X-TITLE=Lancaster U
 niversity Management School:geo:0,0
END:VEVENT
BEGIN:VTIMEZONE
TZID:Europe/London
X-LIC-LOCATION:Europe/London
BEGIN:STANDARD
DTSTART:20241027T010000
TZOFFSETFROM:+0100
TZOFFSETTO:+0000
TZNAME:GMT
END:STANDARD
END:VTIMEZONE
END:VCALENDAR