BEGIN:VCALENDAR
VERSION:2.0
PRODID:-//wp-events-plugin.com//7.2.3.1//EN
TZID:Europe/London
X-WR-TIMEZONE:Europe/London
BEGIN:VEVENT
UID:18@ukais.org
DTSTART;TZID=Europe/London:20241021T093000
DTEND;TZID=Europe/London:20241021T163000
DTSTAMP:20241023T124306Z
URL:https://www.ukais.org/events/masterclass-gamified-approach-for-managem
 ent-information-systems-2/
SUMMARY:Masterclass: Gamified Approach for Management Information Systems
DESCRIPTION:Supported by UK Academy for Information Systems &amp\; BAM Ebus
 iness &amp\; Egovernment SIG &amp\; Newcastle University Business School\n
 \nOrganisers: Prof. Savvas Papagiannidis &amp\; Dr Dinara Davlembayeva\n\n
 Registration\n\nThe event is free to attend but we will encourage you to c
 onsider signing up as members for UKAIS and BAM Ebusiness and Egovernment 
 SIGs. As there are limited spaces you need to register before attending. T
 o register please email: Dr Dinara Davlembayeva Dinara.Davlembayeva@newcas
 tle.ac.uk. When attending please bring your laptop.21/20\n\nLearning objec
 tives\nUnderstanding Gamification for Information Management and Informati
 on Systems\nDecoding gameplay and game elements and their integration with
  information systems.\nUnderstanding and classification of player types (u
 sers) to customize gamified experiences\nGamification and information syst
 ems research : Design\; Research Methods and Analytics\nFor further inform
 ation\, please follow the link:\nhttps://ebusiness.ncl.ac.uk/news/events/2
 4_10_workshop.php\n\n&nbsp\;\n\nUpdate \n\nUKAIS extends our sincere thank
 s to Prof Abishek Behl for his masterclass on Gamification held on 2024-10
 -21 at Newcastle Business School. The session was incredibly insightful an
 d provided a fresh perspective on innovative gamified approaches to teachi
 ng\, research and stakeholder relationship management.\n\n   \n\n&nbsp\;
END:VEVENT
BEGIN:VTIMEZONE
TZID:Europe/London
X-LIC-LOCATION:Europe/London
BEGIN:DAYLIGHT
DTSTART:20240331T020000
TZOFFSETFROM:+0000
TZOFFSETTO:+0100
TZNAME:BST
END:DAYLIGHT
END:VTIMEZONE
END:VCALENDAR