BEGIN:VCALENDAR
VERSION:2.0
PRODID:-//wp-events-plugin.com//7.2.3.1//EN
TZID:Europe/London
X-WR-TIMEZONE:Europe/London
BEGIN:VEVENT
UID:12@ukais.org
DTSTART;TZID=Europe/London:20240621T090000
DTEND;TZID=Europe/London:20240621T100000
DTSTAMP:20240415T103134Z
URL:https://www.ukais.org/events/meet-the-editor-communications-of-the-ass
 ociations-for-information-systems/
SUMMARY:Meet the Editor - Communications of the Association for Information
  Systems
DESCRIPTION:UKAIS is pleased to announce a Meet the Editor Symposium with D
 r. Denis Dennehy and Prof. Mary Tate\, Co-Editors in Chief of the Communic
 ations of the Association for Information Systems. The Symposium will be h
 eld online via Zoom on Friday 21st of June from 9:00am to 10:00am GMT. Det
 ails for joining the meeting follow\n\n&nbsp\;\n\n&nbsp\;\n\nJoin Zoom Mee
 ting\nhttps://swanseauniversity.zoom.us/j/4737802046?omn=96753774181\n\nMe
 eting ID: 473 780 2046\n\n---\n\nOne tap mobile\n+12532050468\,\,473780204
 6# US\n+12532158782\,\,4737802046# US (Tacoma)\n\n---\n\nDial by your loca
 tion\n• +1 253 205 0468 US\n• +1 253 215 8782 US (Tacoma)\n• +1 301 
 715 8592 US (Washington DC)\n• +1 305 224 1968 US\n• +1 309 205 3325 U
 S\n• +1 312 626 6799 US (Chicago)\n• +1 346 248 7799 US (Houston)\n•
  +1 360 209 5623 US\n• +1 386 347 5053 US\n• +1 507 473 4847 US\n• +
 1 564 217 2000 US\n• +1 646 558 8656 US (New York)\n• +1 646 931 3860 
 US\n• +1 669 444 9171 US\n• +1 669 900 9128 US (San Jose)\n• +1 689 
 278 1000 US\n• +1 719 359 4580 US\n• +44 203 481 5240 United Kingdom\n
 • +44 203 901 7895 United Kingdom\n• +44 208 080 6591 United Kingdom\n
 • +44 208 080 6592 United Kingdom\n• +44 330 088 5830 United Kingdom\n
 • +44 131 460 1196 United Kingdom\n• +44 203 481 5237 United Kingdom\n
 \nMeeting ID: 473 780 2046\n\nFind your local number: https://swanseaunive
 rsity.zoom.us/u/azKqH1Tzi\n\n---\n\nJoin by SIP\n• 4737802046@zoomcrc.co
 m&lt\;mailto:4737802046@zoomcrc.com&gt\;\n\n---\n\nJoin by H.323\n• 162.
 255.37.11 (US West)\n• 162.255.36.11 (US East)\n• 221.122.88.195 (Chin
 a)\n• 115.114.131.7 (India Mumbai)\n• 115.114.115.7 (India Hyderabad)\
 n• 213.19.144.110 (Amsterdam Netherlands)\n• 213.244.140.110 (Germany)
 \n• 103.122.166.55 (Australia Sydney)\n• 103.122.167.55 (Australia Mel
 bourne)\n• 209.9.211.110 (Hong Kong SAR)\n• 64.211.144.160 (Brazil)\n
 • 69.174.57.160 (Canada Toronto)\n• 65.39.152.160 (Canada Vancouver)\n
 • 207.226.132.110 (Japan Tokyo)\n• 149.137.24.110 (Japan Osaka)\n\nMee
 ting ID: 473 780 2046
END:VEVENT
BEGIN:VTIMEZONE
TZID:Europe/London
X-LIC-LOCATION:Europe/London
BEGIN:DAYLIGHT
DTSTART:20240331T020000
TZOFFSETFROM:+0000
TZOFFSETTO:+0100
TZNAME:BST
END:DAYLIGHT
END:VTIMEZONE
END:VCALENDAR