BEGIN:VCALENDAR
VERSION:2.0
PRODID:-//wp-events-plugin.com//7.2.3.1//EN
TZID:Europe/London
X-WR-TIMEZONE:Europe/London
BEGIN:VEVENT
UID:8@ukais.org
DTSTART;TZID=Europe/London:20240301T130000
DTEND;TZID=Europe/London:20240301T140000
DTSTAMP:20240123T103406Z
URL:https://www.ukais.org/events/meet-the-editor-edgar-whitley-co-editor-i
 n-chief-information-technology-people/
SUMMARY:Meet The Editor: Edgar Whitley\, co-Editor in Chief\, Information T
 echnology & People
DESCRIPTION:Edgar Whitley\, Associate Professor at the London School of Eco
 nomics and Political Science and co Editor-in-Chief of the Information Tec
 hnology &amp\; People\, is going to give a presentation of the journal inc
 luding its strategic priorities\, topic preferences\; types of articles\; 
 tips and advice for prospective authors\; review process\; expectations\, 
 future directions and other related matters. All welcome.\n\nDimitra Petra
 kaki is inviting you to a scheduled Zoom meeting.\n\nTopic: Meet the Edito
 r session\, Information Technology &amp\; People\n\nTime: Mar 1\, 2024 01:
 00 PM London\n\nJoin Zoom Meeting\n\nhttps://universityofsussex.zoom.us/j/
 96894876011?pwd=T2g4ckNwdVowdFNSRm4vMkZzcE5idz09\n\nMeeting ID: 968 9487 6
 011\n\nPasscode: 603403\n\n---\n\nOne tap mobile\n\n+13017158592\,\,968948
 76011# US (Washington DC)\n\n+13052241968\,\,96894876011# US\n\n---\n\nDia
 l by your location\n\n• +1 301 715 8592 US (Washington DC)\n\n• +1 305
  224 1968 US\n\n• +1 309 205 3325 US\n\n• +1 312 626 6799 US (Chicago)
 \n\n• +1 346 248 7799 US (Houston)\n\n• +1 360 209 5623 US\n\n• +1 3
 86 347 5053 US\n\n• +1 507 473 4847 US\n\n• +1 564 217 2000 US\n\n• 
 +1 646 558 8656 US (New York)\n\n• +1 646 931 3860 US\n\n• +1 669 444 
 9171 US\n\n• +1 669 900 9128 US (San Jose)\n\n• +1 689 278 1000 US\n\n
 • +1 719 359 4580 US\n\n• +1 253 205 0468 US\n\n• +1 253 215 8782 US
  (Tacoma)\n\nMeeting ID: 968 9487 6011\n\nFind your local number: https://
 universityofsussex.zoom.us/u/aeq6oLMi4W\n\n---\n\nJoin by SIP\n\n• 96894
 876011@zoomcrc.com\n\n---\n\nJoin by H.323\n\n• 162.255.37.11 (US West)\
 n\n• 162.255.36.11 (US East)\n\n• 115.114.131.7 (India Mumbai)\n\n• 
 115.114.115.7 (India Hyderabad)\n\n• 213.19.144.110 (Amsterdam Netherlan
 ds)\n\n• 213.244.140.110 (Germany)\n\n• 103.122.166.55 (Australia Sydn
 ey)\n\n• 103.122.167.55 (Australia Melbourne)\n\n• 149.137.40.110 (Sin
 gapore)\n\n• 64.211.144.160 (Brazil)\n\n• 149.137.68.253 (Mexico)\n\n
 • 69.174.57.160 (Canada Toronto)\n\n• 65.39.152.160 (Canada Vancouver)
 \n\n• 207.226.132.110 (Japan Tokyo)\n\n• 149.137.24.110 (Japan Osaka)\
 n\nMeeting ID: 968 9487 6011\n\nPasscode: 603403
END:VEVENT
BEGIN:VTIMEZONE
TZID:Europe/London
X-LIC-LOCATION:Europe/London
BEGIN:STANDARD
DTSTART:20231029T010000
TZOFFSETFROM:+0100
TZOFFSETTO:+0000
TZNAME:GMT
END:STANDARD
END:VTIMEZONE
END:VCALENDAR