BEGIN:VCALENDAR
VERSION:2.0
PRODID:-//wp-events-plugin.com//7.2.3.1//EN
TZID:Europe/London
X-WR-TIMEZONE:Europe/London
BEGIN:VEVENT
UID:40@ukais.org
DTSTART;TZID=Europe/London:20260508T120000
DTEND;TZID=Europe/London:20260608T130000
DTSTAMP:20260420T094300Z
URL:https://www.ukais.org/events/reframing-generative-ai-in-higher-educati
 on-insights-from-the-digital-maieutic-approach/
SUMMARY:Reframing Generative AI in Higher Education: Insights from the Dig
 ital Maieutic Approach
DESCRIPTION:We are delighted to invite you to another UKAIS seminar on 'Ref
 raming Generative AI in Higher Education: Insights from the Digital Maieu
 tic Approach' delivered by Theo Tzanidis\, Eleni Tzouramani and Charis M
 anousou from the University of the West of Scotland.\nThis research projec
 t has been supported by UKAIS and deals with topical questions on GenAI in
  Higher Education.\nPlease find below the zoom link and other details to h
 elp you connect.\nWe look forward to seeing you all then!\n\nProfessor Dim
 itra Petrakaki is inviting you to a scheduled Zoom meeting.\n\nTopic: Refr
 aming Generative AI in Higher Education\nTime: May 8\, 2026 12:00 PM Londo
 n\nJoin Zoom Meeting\nhttps://universityofsussex.zoom.us/j/81541813068\n\n
 Meeting ID: 815 4181 3068\n\n\n---\n\nOne tap mobile\n+16469313860\,\,8154
 1813068# US\n+16694449171\,\,81541813068# US\n\n---\n\nJoin by SIP\n•
  81541813068@zoomcrc.com\n\nJoin instructions\nhttps://universityofsussex
 .zoom.us/meetings/81541813068/invitations?signature=3bLsxVMYyEhHLaeWOY6JkI
 xt0r2GoIVkma-kIIPz6Xk\n
END:VEVENT
BEGIN:VTIMEZONE
TZID:Europe/London
X-LIC-LOCATION:Europe/London
BEGIN:DAYLIGHT
DTSTART:20260329T020000
TZOFFSETFROM:+0000
TZOFFSETTO:+0100
TZNAME:BST
END:DAYLIGHT
END:VTIMEZONE
END:VCALENDAR