BEGIN:VCALENDAR
VERSION:2.0
PRODID:-//wp-events-plugin.com//7.2.3.1//EN
TZID:Europe/London
X-WR-TIMEZONE:Europe/London
BEGIN:VEVENT
UID:4@ukais.org
DTSTART;TZID=Europe/London:20231102T110000
DTEND;TZID=Europe/London:20231102T150000
DTSTAMP:20230928T114434Z
URL:https://www.ukais.org/events/ukais-phd-networking-event-lancaster/
SUMMARY:UKAIS Phd Networking Event (Lancaster)
DESCRIPTION:Phd networking events for UKAIS Phd members to take place in Ce
 ntral London (location to be confirmed) on October 27th (10 to 13:00) and 
 in Lancaster University Management School on November 2nd  (11:00 to 15:0
 0). For further information and to register your interest to attend\, plea
 se contact: Emmanuel Chikezie (UKAIS Phd representation) via email: e.chik
 ezie@tees.ac.uk
LOCATION:Lancaster University Management School\, Bailrigg\, Lancaster LA1 
 4YX\, UK\, Lancaster\, United Kingdom
X-APPLE-STRUCTURED-LOCATION;VALUE=URI;X-ADDRESS=Bailrigg\, Lancaster LA1 4Y
 X\, UK\, Lancaster\, United Kingdom;X-APPLE-RADIUS=100;X-TITLE=Lancaster U
 niversity Management School:geo:0,0
END:VEVENT
BEGIN:VTIMEZONE
TZID:Europe/London
X-LIC-LOCATION:Europe/London
BEGIN:STANDARD
DTSTART:20231029T010000
TZOFFSETFROM:+0100
TZOFFSETTO:+0000
TZNAME:GMT
END:STANDARD
END:VTIMEZONE
END:VCALENDAR