BEGIN:VCALENDAR
VERSION:2.0
PRODID:-//wp-events-plugin.com//7.2.3.1//EN
TZID:Europe/London
X-WR-TIMEZONE:Europe/London
BEGIN:VEVENT
UID:3@ukais.org
DTSTART;TZID=Europe/London:20231027T100000
DTEND;TZID=Europe/London:20231027T130000
DTSTAMP:20231019T223748Z
URL:https://www.ukais.org/events/ukais-phd-networking-event-london/
SUMMARY:UKAIS PhD Networking Event (London)
DESCRIPTION:UK Academy for Information Systems\n\nPhD Networking Event with
  Norwegian University of Science and Technology (NTNU)\, Department of Inf
 ormatics\n\nOctober 27\, 2023  - London\n\n&nbsp\;\n\nTime: 10:00 to 13:0
 0\n\nLocation: Royal Holloway University of London\, London Campus\n\nRoom
 : BEDSQ-1-01\,\n\nAddress: Bedford Square\, 11 Bedford Square\,  WC1B 3RF
 \, London\n\nUnderground station: Tottenham Court Road \n\n \n\nFacilitat
 ors: Prof Niki Panteli (Lancaster University/NTNU &amp\; UKAIS President) 
 and Dr Yuanyuan Lai (RHUL &amp\; UKAIS Secretary)\n\nSchedule\n\nWelcome &
 amp\; Introductions\n\n\n\n#\nName\nTopic\nTime\n\n\n1\nAmagyei\, Nana Kwa
 me\nData Curation as a Collective Practice in a Data- Driven World\n10:00 
 - 10-15\n\n\n2\nCrivellari\, Ilaria\nSustainable Digital Transformation in
  the Public Sector\n10:15 -10:30\n\n\n3\nGrøder\, Charlotte Husom\nEarly 
 Stage Implementation of AI: A study from the Welfare Sector\n10:30 -10:45\
 n\n\n4\nSokolaj\, Ursula\nSmart City e-participation and Social Sustainabi
 lity\n10:45 - 11:00\n\n\n5\nJaradat\, Bashira\nIntegration of Sustainabili
 ty Cases in Higher Computing Education\n11:00 -11:15\n\n\n6\nLorenz\, Eman
 uel Alexander\nEcologically Valid Multimodal Assessment of Cortical Propri
 oceptive Processing\n11:15 -11:30\n\n\n&nbsp\;\nBREAK\n&nbsp\;\n11:30 – 
 12:00\n\n\n7\nRayen Chang\n Incentives and controls: Building a FinTech p
 latform for enhancing young adults' financial well-being\n12:00-12:15\n\n\
 n8\n Lei Yuan\n'Generative AI in the Workplace: A Dive into Employee Acce
 ptance in China'\n12:15-12:30\n\n\n9\n- TBC\n-\n12:30-12:45\n\n\n&nbsp\;\n
 FINAL COMMENTS\n&nbsp\;\n12:45  -13:00\n\n\n\n&nbsp\;\n\nIf you are a Ph
 D student UKAIS member and are interested in taking part in this event\, p
 lease contact Emmanuel  Chikezie (UKAIS Phd Rep): e.chikezie@tees.ac.uk
LOCATION:Royal Holloway University of London\, BEDSQ-1-01. Bedford Square\,
  11 Bedford Square\, London\,   WC1B 3RF\, United Kingdom
X-APPLE-STRUCTURED-LOCATION;VALUE=URI;X-ADDRESS=BEDSQ-1-01. Bedford Square\
 , 11 Bedford Square\, London\,   WC1B 3RF\, United Kingdom;X-APPLE-RADIUS=
 100;X-TITLE=Royal Holloway University of London:geo:0,0
END:VEVENT
BEGIN:VTIMEZONE
TZID:Europe/London
X-LIC-LOCATION:Europe/London
BEGIN:DAYLIGHT
DTSTART:20230326T020000
TZOFFSETFROM:+0000
TZOFFSETTO:+0100
TZNAME:BST
END:DAYLIGHT
END:VTIMEZONE
END:VCALENDAR