BEGIN:VCALENDAR
VERSION:2.0
PRODID:-//wp-events-plugin.com//7.2.3.1//EN
TZID:Europe/London
X-WR-TIMEZONE:Europe/London
BEGIN:VEVENT
UID:16@ukais.org
DTSTART;TZID=Europe/London:20241021T120000
DTEND;TZID=Europe/London:20241021T130000
DTSTAMP:20241022T090746Z
URL:https://www.ukais.org/events/ukais-seminar-prof-robert-davison-on-qual
 itative-research-methods-for-information-systems/
SUMMARY:UKAIS Seminar - Prof. Robert Davison on "Qualitative Research Metho
 ds for Information Systems"
DESCRIPTION:UKAIS is delighted to host Professor Robert Davison\, Professor
  of Information Systems at City University of Hong Kong in its next semina
 r. Professor Davison will talk about the teaching of qualitative research 
 methods in IS drawing upon his book ‘Qualitative Research Methods for In
 formation Systems\, New Perspectives'. The seminar will be held on zoom on
  the 21st of October at 12pm BST\, details below. All welcome. Please circ
 ulate to your networks.\n\nSlides from the talk can be downloaded here: Qu
 alitative Research Methods for IS\n\n---\n\nTopic: UKAIS event: Professor 
 Robert Davison on his book 'Qualitative Research Methods for Information S
 ystems\, New Perspectives'.\nTime: Oct 21\, 2024 12:00 PM London\n\nJoin Z
 oom Meeting\nhttps://universityofsussex.zoom.us/j/93423126333\n\nMeeting I
 D: 934 2312 6333\n\n---\n\nOne tap mobile\n+13602095623\,\,93423126333# US
 \n+13863475053\,\,93423126333# US\n\n---\n\nDial by your location\n• +1 
 360 209 5623 US\n• +1 386 347 5053 US\n• +1 507 473 4847 US\n• +1 56
 4 217 2000 US\n• +1 646 558 8656 US (New York)\n• +1 646 931 3860 US\n
 • +1 669 444 9171 US\n• +1 669 900 9128 US (San Jose)\n• +1 689 278 
 1000 US\n• +1 719 359 4580 US\n• +1 253 205 0468 US\n• +1 253 215 87
 82 US (Tacoma)\n• +1 301 715 8592 US (Washington DC)\n• +1 305 224 196
 8 US\n• +1 309 205 3325 US\n• +1 312 626 6799 US (Chicago)\n• +1 346
  248 7799 US (Houston)\n\nMeeting ID: 934 2312 6333\n\nFind your local num
 ber: https://universityofsussex.zoom.us/u/aeHpZbDTIJ\n\n---\n\nJoin by SIP
 \n• 93423126333@zoomcrc.com&lt\;mailto:93423126333@zoomcrc.com&gt\;\n\n-
 --\n\nJoin by H.323\n• 162.255.37.11 (US West)\n• 162.255.36.11 (US Ea
 st)\n• 115.114.131.7 (India Mumbai)\n• 115.114.115.7 (India Hyderabad)
 \n• 213.19.144.110 (Amsterdam Netherlands)\n• 213.244.140.110 (Germany
 )\n• 103.122.166.55 (Australia Sydney)\n• 103.122.167.55 (Australia Me
 lbourne)\n• 149.137.40.110 (Singapore)\n• 64.211.144.160 (Brazil)\n•
  159.124.132.243 (Mexico)\n• 159.124.168.213 (Canada Toronto)\n• 65.39
 .152.160 (Canada Vancouver)\n• 207.226.132.110 (Japan Tokyo)\n• 149.13
 7.24.110 (Japan Osaka)\n\nMeeting ID: 934 2312 6333
END:VEVENT
BEGIN:VTIMEZONE
TZID:Europe/London
X-LIC-LOCATION:Europe/London
BEGIN:DAYLIGHT
DTSTART:20240331T020000
TZOFFSETFROM:+0000
TZOFFSETTO:+0100
TZNAME:BST
END:DAYLIGHT
END:VTIMEZONE
END:VCALENDAR