BEGIN:VCALENDAR
VERSION:2.0
PRODID:-//wp-events-plugin.com//7.2.3.1//EN
TZID:Europe/London
X-WR-TIMEZONE:Europe/London
BEGIN:VEVENT
UID:11@ukais.org
DTSTART;TZID=Europe/London:20240507T130000
DTEND;TZID=Europe/London:20240507T140000
DTSTAMP:20240531T161304Z
URL:https://www.ukais.org/events/ukais-seminar-the-scale-and-challenges-of
 -employer-adoption-of-ai-enabled-digital-technology-representative-evidenc
 e-from-the-uk/
SUMMARY:UKAIS Seminar: ‘The scale and challenges of employer adoption of 
 AI-enabled digital technology: Representative evidence from the UK’.
DESCRIPTION:UKAIS is delighted to invite Professor Danat Valizade\, Profess
 or of Quantitative Employment Research at University of Leeds and Co-Inves
 tigator of the ESRC-funded Centre Digital Futures at Work (Digit) to discu
 ss ‘The scale and challenges of employer adoption of AI-enabled digital 
 technology: Representative evidence from the UK’.\n\nThe seminar will be
  held on zoom on the 7th of May at 1pm\, details below.\n\nAll welcome.  
 Please circulate to your networks.\n\n ‘The scale and challenges of emp
 loyer adoption of AI-enabled digital technology: Representative evidence f
 rom the UK’. \n\n Danat Valizade\, Professor of Quantitative Employment
  Research\, University of Leeds d.valizade@leeds.ac.uk\n\nAbstract\n\n Co
 ntemporary academic and policy debates assume that digital technologies\, 
 in the form of automation\, artificial intelligence\, platforms or algorit
 hmic management\, will have a profound effect on businesses and the organi
 sation of work in the years to come. Yet\, there is a lack of representati
 ve evidence concerning the extent to which employers adopt such innovative
  forms of digital technologies and whether they have a sizeable effect on 
 employers’ attitudes\, behaviour and human resource management strategie
 s. This is a key piece of evidence that we need to collect if we want to u
 nderstand how digitalisation will impact work in the future.\n\nThis talk 
 will present emerging findings from an original nationally representative 
 survey of employers in the United Kingdom. The survey\, which is a key res
 earch theme of the ESRC funded research centre ‘Digital Future at Work (
 Digit)’ had been collected in 2022-23 drawing on a representative sample
  of establishments in the United Kingdom with more than 10 employees. The 
 presentation will cover employer adoption of artificial intelligence enabl
 ed technology including AI equipment\, software and applications alongside
  employers’ use of data analytics. Evidence will be presented concerning
  the reasons for the adoption (and non-adoption) of such technologies and 
 their effect on human resource management practices including the possible
  effect of digital technology on employment\, working hours\, employee aut
 onomy\, and employee voice.\n\nDimitra Petrakaki is inviting you to a sche
 duled Zoom meeting.\n\nTopic: UKAIS talk Danat Velizade\, Digit &amp\; Uni
 versity of Leeds\n\nTime: May 7\, 2024 01:00 PM London\n\nJoin Zoom Meetin
 g\n\nhttps://universityofsussex.zoom.us/j/97422083351\n\nListen to the Rec
 ording of Danat's Talk\n\n&nbsp\;\n\nMeeting ID: 974 2208 3351\n\n&nbsp\;\
 n\n---\n\n&nbsp\;\n\nOne tap mobile\n\n+16465588656\,\,97422083351# US (Ne
 w York)\n\n+16469313860\,\,97422083351# US\n\n&nbsp\;\n\n---\n\n&nbsp\;\n\
 nDial by your location\n\n 	+1 646 558 8656 US (New York)\n 	+1 646 931 38
 60 US\n 	+1 669 444 9171 US\n 	+1 669 900 9128 US (San Jose)\n 	+1 689 278
  1000 US\n 	+1 719 359 4580 US\n 	+1 253 205 0468 US\n 	+1 253 215 8782 US
  (Tacoma)\n 	+1 301 715 8592 US (Washington DC)\n 	+1 305 224 1968 US\n 	+
 1 309 205 3325 US\n 	+1 312 626 6799 US (Chicago)\n 	+1 346 248 7799 US (H
 ouston)\n 	+1 360 209 5623 US\n 	+1 386 347 5053 US\n 	+1 507 473 4847 US\
 n 	+1 564 217 2000 US\n\n&nbsp\;\n\nMeeting ID: 974 2208 3351\n\n&nbsp\;\n
 \nFind your local number: https://universityofsussex.zoom.us/u/ab4xQLWKZ2\
 n\n&nbsp\;\n\n---\n\n&nbsp\;\n\nJoin by SIP\n\n 	97422083351@zoomcrc.com\n
 \n&nbsp\;\n\n---\n\n&nbsp\;\n\nJoin by H.323\n\n 	162.255.37.11 (US West)\
 n 	162.255.36.11 (US East)\n 	115.114.131.7 (India Mumbai)\n 	115.114.115.
 7 (India Hyderabad)\n 	213.19.144.110 (Amsterdam Netherlands)\n 	213.244.1
 40.110 (Germany)\n 	103.122.166.55 (Australia Sydney)\n 	103.122.167.55 (A
 ustralia Melbourne)\n 	149.137.40.110 (Singapore)\n 	64.211.144.160 (Brazi
 l)\n 	149.137.68.253 (Mexico)\n 	69.174.57.160 (Canada Toronto)\n 	65.39.1
 52.160 (Canada Vancouver)\n 	207.226.132.110 (Japan Tokyo)\n 	149.137.24.1
 10 (Japan Osaka)\n\n&nbsp\;\n\nMeeting ID: 974 2208 3351
END:VEVENT
BEGIN:VTIMEZONE
TZID:Europe/London
X-LIC-LOCATION:Europe/London
BEGIN:DAYLIGHT
DTSTART:20240331T020000
TZOFFSETFROM:+0000
TZOFFSETTO:+0100
TZNAME:BST
END:DAYLIGHT
END:VTIMEZONE
END:VCALENDAR